Workbook

Sheet 86-LUBELSKIE
A1: Lista zadań powiatowych i zadań gminnych rekomendowanych do dofinansowania w ramach Rządowego Funduszu Rozwoju Dróg
F2: ZATWIERDZAM
A4: Dofinansowanie przyznane w naborze: 2026
A6: Województwo: LUBELSKIE
F7: Donald Tusk /dokument podpisany elektronicznie/
A9: Podsumowanie naboru:
A10: Kategoria drogi - rodzaj listy | B10: Liczba zadań | C10: Wartość zadań ogółem | D10: Deklarowana kwota środków własnych | E10: Kwota dofinasowania ogółem | J10: Kwota dofinansowania w podziale na lata
F11: 2019 | G11: 2020 | H11: 2021 | I11: 2022 | J11: 2023 | K11: 2024 | L11: 2025 | M11: 2026 | N11: 2027 | O11: 2028 | P11: 2029 | Q11: 2030
A12: powiatowe - lista podstawowa, z tego: | B12: =COUNTA('pow podst'!K3:K29) -> 27 | C12: =SUM('pow podst'!J3:J29) -> 3.5055138e+08 | D12: =SUM('pow podst'!L3:L29) -> 1.3976981e+08 | E12: =SUM('pow podst'!K3:K29) -> 2.1078157e+08 | F12: =SUM('pow podst'!N3:N29) -> 0 | G12: =SUM('pow podst'!O3:O29) -> 0 | H12: =SUM('pow podst'!P3:P29) -> 0 | I12: =SUM('pow podst'!Q3:Q29) -> 0 | J12: =SUM('pow podst'!R3:R29) -> 0 | K12: =SUM('pow podst'!S3:S29) -> 0 | L12: =SUM('pow podst'!T3:T29) -> 16603181 | M12: =SUM('pow podst'!U3:U29) -> 1.3363595e+08 | ... Q12: =SUM('pow podst'!Y3:Y29) -> 0 | R12: =C12=(D12+E12) -> TRUE | S12: =E12=SUM(F12:Q12) -> TRUE
A13: kontynuowane zadania wieloletnie | B13: =COUNTIF('pow podst'!C3:C29,"K") -> 6 | C13: =SUMIF('pow podst'!C3:C29,"K",'pow podst'!J3:J29) -> 55137575 | D13: =SUMIF('pow podst'!C3:C29,"K",'pow podst'!L3:L29) -> 18373899 | E13: =SUMIF('pow podst'!C3:C29,"K",'pow podst'!K3:K29) -> 36763676 | F13: =SUMIF('pow podst'!C3:C29,"K",'pow podst'!N3:N29) -> 0 | G13: =SUMIF('pow podst'!C3:C29,"K",'pow podst'!O3:O29) -> 0 | H13: =SUMIF('pow podst'!C3:C29,"K",'pow podst'!P3:P29) -> 0 | I13: =SUMIF('pow podst'!C3:C29,"K",'pow podst'!Q3:Q29) -> 0 | J13: =SUMIF('pow podst'!C3:C29,"K",'pow podst'!R3:R29) -> 0 | K13: =SUMIF('pow podst'!C3:C29,"K",'pow podst'!S3:S29) -> 0 | L13: =SUMIF('pow podst'!C3:C29,"K",'pow podst'!T3:T29) -> 16603181 | M13: =SUMIF('pow podst'!C3:C29,"K",'pow podst'!U3:U29) -> 19712714 | N13: =SUMIF('pow podst'!C3:C29,"K",'pow podst'!V3:V29) -> 447781.16 | O13: =SUMIF('pow podst'!C3:C29,"K",'pow podst'!W3:W29) -> 0 | P13: =SUMIF('pow podst'!C3:C29,"K",'pow podst'!X3:X29) -> 0 | Q13: =SUMIF('pow podst'!C3:C29,"K",'pow podst'!Y3:Y29) -> 0 | R13: =C13=(D13+E13) -> TRUE | S13: =E13=SUM(F13:Q13) -> TRUE
A14: nowe zadania jednoroczne | B14: =COUNTIF('pow podst'!C3:C29,"N") -> 13 | C14: =SUMIF('pow podst'!C3:C29,"N",'pow podst'!J3:J29) -> 1.3114133e+08 | D14: =SUMIF('pow podst'!C3:C29,"N",'pow podst'!L3:L29) -> 52106960 | E14: =SUMIF('pow podst'!C3:C29,"N",'pow podst'!K3:K29) -> 79034366 | F14: =SUMIF('pow podst'!C3:C29,"N",'pow podst'!N3:N29) -> 0 | G14: =SUMIF('pow podst'!C3:C29,"N",'pow podst'!O3:O29) -> 0 | H14: =SUMIF('pow podst'!C3:C29,"N",'pow podst'!P3:P29) -> 0 | I14: =SUMIF('pow podst'!C3:C29,"N",'pow podst'!Q3:Q29) -> 0 | J14: =SUMIF('pow podst'!C3:C29,"N",'pow podst'!R3:R29) -> 0 | K14: =SUMIF('pow podst'!C3:C29,"N",'pow podst'!S3:S29) -> 0 | L14: =SUMIF('pow podst'!C3:C29,"N",'pow podst'!T3:T29) -> 0 | M14: =SUMIF('pow podst'!C3:C29,"N",'pow podst'!U3:U29) -> 79034366 | N14: =SUMIF('pow podst'!C3:C29,"N",'pow podst'!V3:V29) -> 0 | O14: =SUMIF('pow podst'!C3:C29,"N",'pow podst'!W3:W29) -> 0 | P14: =SUMIF('pow podst'!C3:C29,"N",'pow podst'!X3:X29) -> 0 | Q14: =SUMIF('pow podst'!C3:C29,"N",'pow podst'!Y3:Y29) -> 0 | R14: =C14=(D14+E14) -> TRUE | S14: =E14=SUM(F14:Q14) -> TRUE
A15: nowe zadania wieloletnie | B15: =COUNTIF('pow podst'!C3:C29,"W") -> 8 | C15: =SUMIF('pow podst'!C3:C29,"W",'pow podst'!J3:J29) -> 1.6427248e+08 | D15: =SUMIF('pow podst'!C3:C29,"W",'pow podst'!L3:L29) -> 69288952 | E15: =SUMIF('pow podst'!C3:C29,"W",'pow podst'!K3:K29) -> 94983524 | F15: =SUMIF('pow podst'!C9:C29,"W",'pow podst'!N9:N29) -> 0 | G15: =SUMIF('pow podst'!C3:C29,"W",'pow podst'!O3:O29) -> 0 | H15: =SUMIF('pow podst'!C3:C29,"W",'pow podst'!P3:P29) -> 0 | I15: =SUMIF('pow podst'!C3:C29,"W",'pow podst'!Q3:Q29) -> 0 | J15: =SUMIF('pow podst'!C3:C29,"W",'pow podst'!R3:R29) -> 0 | K15: =SUMIF('pow podst'!C3:C29,"W",'pow podst'!S3:S29) -> 0 | L15: =SUMIF('pow podst'!C3:C29,"W",'pow podst'!T3:T29) -> 0 | M15: =SUMIF('pow podst'!C3:C29,"W",'pow podst'!U3:U29) -> 34888870 | N15: =SUMIF('pow podst'!C3:C29,"W",'pow podst'!V3:V29) -> 50984470 | O15: =SUMIF('pow podst'!C3:C29,"W",'pow podst'!W3:W29) -> 9110184.9 | P15: =SUMIF('pow podst'!C3:C29,"W",'pow podst'!X3:X29) -> 0 | Q15: =SUMIF('pow podst'!C3:C29,"W",'pow podst'!Y3:Y29) -> 0 | R15: =C15=(D15+E15) -> TRUE | S15: =E15=SUM(F15:Q15) -> TRUE
A16: gminne - lista podstawowa, z tego: | B16: =COUNTA('gm podst'!L3:L127) -> 125 | C16: =SUM('gm podst'!K3:K127) -> 3.3427029e+08 | D16: =SUM('gm podst'!M3:M127) -> 1.471355e+08 | E16: =SUM('gm podst'!L3:L127) -> 1.8713479e+08 | F16: =SUM('gm podst'!O3:O127) -> 0 | G16: =SUM('gm podst'!P3:P127) -> 0 | H16: =SUM('gm podst'!Q3:Q127) -> 0 | I16: =SUM('gm podst'!R3:R127) -> 0 | J16: =SUM('gm podst'!S3:S127) -> 0 | K16: =SUM('gm podst'!T3:T127) -> 2183047 | L16: =SUM('gm podst'!U3:U127) -> 15819168 | M16: =SUM('gm podst'!V3:V127) -> 1.3730093e+08 | ... Q16: =SUM('gm podst'!Z3:Z127) -> 0 | R16: =C16=(D16+E16) -> TRUE | S16: =E16=SUM(F16:Q16) -> TRUE
A17: kontynuowane zadania wieloletnie | B17: =COUNTIF('gm podst'!C3:C127,"K") -> 13 | C17: =SUMIF('gm podst'!C3:C127,"K",'gm podst'!K3:K127) -> 57701590 | D17: =SUMIF('gm podst'!C3:C127,"K",'gm podst'!M3:M127) -> 22568415 | E17: =SUMIF('gm podst'!C3:C127,"K",'gm podst'!L3:L127) -> 35133175 | F17: =SUMIF('gm podst'!C3:C127,"K",'gm podst'!O3:O127) -> 0 | G17: =SUMIF('gm podst'!C3:C127,"K",'gm podst'!P3:P127) -> 0 | H17: =SUMIF('gm podst'!C3:C127,"K",'gm podst'!Q3:Q127) -> 0 | I17: =SUMIF('gm podst'!C3:C127,"K",'gm podst'!R3:R127) -> 0 | J17: =SUMIF('gm podst'!C3:C127,"K",'gm podst'!S3:S127) -> 0 | K17: =SUMIF('gm podst'!C3:C127,"K",'gm podst'!T3:T127) -> 2183047 | L17: =SUMIF('gm podst'!C3:C127,"K",'gm podst'!U3:U127) -> 15819168 | M17: =SUMIF('gm podst'!C3:C127,"K",'gm podst'!V3:V127) -> 17130960 | N17: =SUMIF('gm podst'!C3:C127,"K",'gm podst'!W3:W127) -> 0 | O17: =SUMIF('gm podst'!C3:C127,"K",'gm podst'!X3:X127) -> 0 | P17: =SUMIF('gm podst'!C3:C127,"K",'gm podst'!Y3:Y127) -> 0 | Q17: =SUMIF('gm podst'!C3:C127,"K",'gm podst'!Z3:Z127) -> 0 | R17: =C17=(D17+E17) -> TRUE | S17: =E17=SUM(F17:Q17) -> TRUE
A18: nowe zadania jednoroczne | B18: =COUNTIF('gm podst'!C3:C127,"N") -> 101 | C18: =SUMIF('gm podst'!C3:C127,"N",'gm podst'!K3:K127) -> 1.7215519e+08 | D18: =SUMIF('gm podst'!C3:C127,"N",'gm podst'!M3:M127) -> 79650039 | E18: =SUMIF('gm podst'!C3:C127,"N",'gm podst'!L3:L127) -> 92505152 | F18: =SUMIF('gm podst'!C3:C127,"N",'gm podst'!O3:O127) -> 0 | G18: =SUMIF('gm podst'!C3:C127,"N",'gm podst'!P3:P127) -> 0 | H18: =SUMIF('gm podst'!C3:C127,"N",'gm podst'!Q3:Q127) -> 0 | I18: =SUMIF('gm podst'!C3:C127,"N",'gm podst'!R3:R127) -> 0 | J18: =SUMIF('gm podst'!C3:C127,"N",'gm podst'!S3:S127) -> 0 | K18: =SUMIF('gm podst'!C3:C127,"N",'gm podst'!T3:T127) -> 0 | L18: =SUMIF('gm podst'!C3:C127,"N",'gm podst'!U3:U127) -> 0 | M18: =SUMIF('gm podst'!C3:C127,"N",'gm podst'!V3:V127) -> 92505152 | N18: =SUMIF('gm podst'!C3:C127,"N",'gm podst'!W3:W127) -> 0 | O18: =SUMIF('gm podst'!C3:C127,"N",'gm podst'!X3:X127) -> 0 | P18: =SUMIF('gm podst'!C3:C127,"N",'gm podst'!Y3:Y127) -> 0 | Q18: =SUMIF('gm podst'!C3:C127,"N",'gm podst'!Z3:Z127) -> 0 | R18: =C18=(D18+E18) -> TRUE | S18: =E18=SUM(F18:Q18) -> TRUE
A19: nowe zadania wieloletnie | B19: =COUNTIF('gm podst'!C3:C127,"W") -> 11 | C19: =SUMIF('gm podst'!C3:C127,"W",'gm podst'!K3:K127) -> 1.0441351e+08 | D19: =SUMIF('gm podst'!C3:C127,"W",'gm podst'!M3:M127) -> 44917046 | E19: =SUMIF('gm podst'!C3:C127,"W",'gm podst'!L3:L127) -> 59496463 | F19: =SUMIF('gm podst'!C3:C127,"W",'gm podst'!O3:O127) -> 0 | G19: =SUMIF('gm podst'!C3:C127,"W",'gm podst'!P3:P127) -> 0 | H19: =SUMIF('gm podst'!C3:C127,"W",'gm podst'!Q3:Q127) -> 0 | I19: =SUMIF('gm podst'!C3:C127,"W",'gm podst'!R3:R127) -> 0 | J19: =SUMIF('gm podst'!C3:C127,"W",'gm podst'!S3:S127) -> 0 | K19: =SUMIF('gm podst'!C3:C127,"W",'gm podst'!T3:T127) -> 0 | L19: =SUMIF('gm podst'!C3:C127,"W",'gm podst'!U3:U127) -> 0 | M19: =SUMIF('gm podst'!C3:C127,"W",'gm podst'!V3:V127) -> 27664815 | N19: =SUMIF('gm podst'!C3:C127,"W",'gm podst'!W3:W127) -> 31831648 | O19: =SUMIF('gm podst'!C3:C127,"W",'gm podst'!X3:X127) -> 0 | P19: =SUMIF('gm podst'!C3:C127,"W",'gm podst'!Y3:Y127) -> 0 | Q19: =SUMIF('gm podst'!C3:C127,"W",'gm podst'!Z3:Z127) -> 0 | R19: =C19=(D19+E19) -> TRUE | S19: =E19=SUM(F19:Q19) -> TRUE
A20: RAZEM listy podstawowe, z tego: | B20: =B12+B16 -> 152 | C20: =C12+C16 -> 6.8482167e+08 | D20: =D12+D16 -> 2.8690531e+08 | E20: =E12+E16 -> 3.9791636e+08 | F20: =F12+F16 -> 0 | G20: =G12+G16 -> 0 | H20: =H12+H16 -> 0 | I20: =I12+I16 -> 0 | ... Q20: =Q12+Q16 -> 0 | R20: =C20=(D20+E20) -> TRUE | S20: =E20=SUM(F20:Q20) -> TRUE
A21: kontynuowane zadania wieloletnie | B21: =B13+B17 -> 19 | C21: =C13+C17 -> 1.1283916e+08 | D21: =D13+D17 -> 40942314 | E21: =E13+E17 -> 71896851 | F21: =F13+F17 -> 0 | G21: =G13+G17 -> 0 | H21: =H13+H17 -> 0 | I21: =I13+I17 -> 0 | ... Q21: =Q13+Q17 -> 0 | R21: =C21=(D21+E21) -> TRUE | S21: =E21=SUM(F21:Q21) -> TRUE
A22: nowe zadania jednoroczne | B22: =B14+B18 -> 114 | C22: =C14+C18 -> 3.0329652e+08 | D22: =D14+D18 -> 1.31757e+08 | E22: =E14+E18 -> 1.7153952e+08 | F22: =F14+F18 -> 0 | G22: =G14+G18 -> 0 | H22: =H14+H18 -> 0 | I22: =I14+I18 -> 0 | ... Q22: =Q14+Q18 -> 0 | R22: =C22=(D22+E22) -> TRUE | S22: =E22=SUM(F22:Q22) -> TRUE
A23: nowe zadania wieloletnie | B23: =B15+B19 -> 19 | C23: =C15+C19 -> 2.6868599e+08 | D23: =D15+D19 -> 1.14206e+08 | E23: =E15+E19 -> 1.5447999e+08 | F23: =F15+F19 -> 0 | G23: =G15+G19 -> 0 | H23: =H15+H19 -> 0 | I23: =I15+I19 -> 0 | ... Q23: =Q15+Q19 -> 0 | R23: =C23=(D23+E23) -> TRUE | S23: =E23=SUM(F23:Q23) -> TRUE
A24: powiatowe - lista rezerwowa | B24: =COUNTA('pow rez'!K3:K21) -> 19 | C24: =SUM('pow rez'!J3:J21) -> 1.8174176e+08 | D24: =SUM('pow rez'!L3:L21) -> 78109385 | E24: =SUM('pow rez'!K3:K21) -> 1.0363238e+08 | F24: =SUM('pow rez'!N3:N21) -> 0 | G24: =SUM('pow rez'!O3:O21) -> 0 | H24: =SUM('pow rez'!P3:P21) -> 0 | I24: =SUM('pow rez'!Q3:Q21) -> 0 | J24: =SUM('pow rez'!R3:R21) -> 0 | K24: =SUM('pow rez'!S3:S21) -> 0 | L24: =SUM('pow rez'!T3:T21) -> 0 | M24: =SUM('pow rez'!U3:U21) -> 92622255 | ... Q24: =SUM('pow rez'!Y3:Y21) -> 0 | R24: =C24=(D24+E24) -> TRUE | S24: =E24=SUM(F24:Q24) -> TRUE
A25: nowe zadania jednoroczne | B25: =COUNTIF('pow rez'!C3:C21,"N") -> 16 | C25: =SUMIF('pow rez'!C3:C21,"N",'pow rez'!J3:J21) -> 1.4617864e+08 | D25: =SUMIF('pow rez'!C3:C21,"N",'pow rez'!L3:L21) -> 62552178 | E25: =SUMIF('pow rez'!C3:C21,"N",'pow rez'!K3:K21) -> 83626461 | F25: =SUMIF('pow rez'!C3:C21,"N",'pow rez'!N3:N21) -> 0 | G25: =SUMIF('pow rez'!C3:C21,"N",'pow rez'!O3:O21) -> 0 | H25: =SUMIF('pow rez'!C3:C21,"N",'pow rez'!P3:P21) -> 0 | I25: =SUMIF('pow rez'!C3:C21,"N",'pow rez'!Q3:Q21) -> 0 | J25: =SUMIF('pow rez'!C3:C21,"N",'pow rez'!R3:R21) -> 0 | K25: =SUMIF('pow rez'!C3:C21,"N",'pow rez'!S3:S21) -> 0 | L25: =SUMIF('pow rez'!C3:C21,"N",'pow rez'!T3:T21) -> 0 | M25: =SUMIF('pow rez'!C3:C21,"N",'pow rez'!U3:U21) -> 83626461 | N25: =SUMIF('pow rez'!C3:C21,"N",'pow rez'!V3:V21) -> 0 | O25: =SUMIF('pow rez'!C3:C21,"N",'pow rez'!W3:W21) -> 0 | P25: =SUMIF('pow rez'!D3:D21,"N",'pow rez'!X3:X21) -> 0 | Q25: =SUMIF('pow rez'!E3:E21,"N",'pow rez'!Y3:Y21) -> 0 | R25: =C25=(D25+E25) -> TRUE | S25: =E25=SUM(F25:Q25) -> TRUE
A26: nowe zadania wieloletnie | B26: =COUNTIF('pow rez'!C3:C21,"W") -> 3 | C26: =SUMIF('pow rez'!C3:C21,"W",'pow rez'!J3:J21) -> 35563125 | D26: =SUMIF('pow rez'!C3:C21,"W",'pow rez'!L3:L21) -> 15557207 | E26: =SUMIF('pow rez'!C3:C21,"W",'pow rez'!K3:K21) -> 20005918 | F26: =SUMIF('pow rez'!C3:C21,"W",'pow rez'!N3:N21) -> 0 | G26: =SUMIF('pow rez'!C3:C21,"W",'pow rez'!O3:O21) -> 0 | H26: =SUMIF('pow rez'!C3:C21,"W",'pow rez'!P3:P21) -> 0 | I26: =SUMIF('pow rez'!C3:C21,"W",'pow rez'!Q3:Q21) -> 0 | J26: =SUMIF('pow rez'!C3:C21,"W",'pow rez'!R3:R21) -> 0 | K26: =SUMIF('pow rez'!C3:C21,"W",'pow rez'!S3:S21) -> 0 | L26: =SUMIF('pow rez'!C3:C21,"W",'pow rez'!T3:T21) -> 0 | M26: =SUMIF('pow rez'!C3:C21,"W",'pow rez'!U3:U21) -> 8995794.4 | N26: =SUMIF('pow rez'!C3:C21,"W",'pow rez'!V3:V21) -> 11010123 | O26: =SUMIF('pow rez'!C3:C21,"W",'pow rez'!W3:W21) -> 0 | P26: =SUMIF('pow rez'!D3:D21,"W",'pow rez'!X3:X21) -> 0 | Q26: =SUMIF('pow rez'!E3:E21,"W",'pow rez'!Y3:Y21) -> 0 | R26: =C26=(D26+E26) -> TRUE | S26: =E26=SUM(F26:Q26) -> TRUE
A27: gminne - lista rezerwowa | B27: =COUNTA('gm rez'!L3:L91) -> 89 | C27: =SUM('gm rez'!K3:K91) -> 1.3104566e+08 | D27: =SUM('gm rez'!M3:M91) -> 58443958 | E27: =SUM('gm rez'!L3:L91) -> 72601705 | F27: =SUM('gm rez'!O3:O91) -> 0 | G27: =SUM('gm rez'!P3:P91) -> 0 | H27: =SUM('gm rez'!Q3:Q91) -> 0 | I27: =SUM('gm rez'!R3:R91) -> 0 | J27: =SUM('gm rez'!S3:S91) -> 0 | K27: =SUM('gm rez'!T3:T91) -> 0 | L27: =SUM('gm rez'!U3:U91) -> 0 | M27: =SUM('gm rez'!V3:V91) -> 71778468 | ... Q27: =SUM('gm rez'!Z3:Z91) -> 0 | R27: =C27=(D27+E27) -> TRUE | S27: =E27=SUM(F27:Q27) -> TRUE
A28: nowe zadania jednoroczne | B28: =COUNTIF('gm rez'!C3:C91,"N") -> 88 | C28: =SUMIF('gm rez'!C3:C91,"N",'gm rez'!K3:K91) -> 1.2876046e+08 | D28: =SUMIF('gm rez'!C3:C91,"N",'gm rez'!M3:M91) -> 57529878 | E28: =SUMIF('gm rez'!C3:C91,"N",'gm rez'!L3:L91) -> 71230585 | F28: =SUMIF('gm rez'!C3:C91,"N",'gm rez'!O3:O91) -> 0 | G28: =SUMIF('gm rez'!C3:C91,"N",'gm rez'!P3:P91) -> 0 | H28: =SUMIF('gm rez'!C3:C91,"N",'gm rez'!Q3:Q91) -> 0 | I28: =SUMIF('gm rez'!C3:C91,"N",'gm rez'!R3:R91) -> 0 | J28: =SUMIF('gm rez'!C3:C91,"N",'gm rez'!S3:S91) -> 0 | K28: =SUMIF('gm rez'!C3:C91,"N",'gm rez'!T3:T91) -> 0 | L28: =SUMIF('gm rez'!C3:C91,"N",'gm rez'!U3:U91) -> 0 | M28: =SUMIF('gm rez'!C3:C91,"N",'gm rez'!V3:V91) -> 71230585 | N28: =SUMIF('gm rez'!C3:C91,"N",'gm rez'!W3:W91) -> 0 | O28: =SUMIF('gm rez'!C3:C91,"N",'gm rez'!X3:X91) -> 0 | P28: =SUMIF('gm rez'!D3:D91,"N",'gm rez'!Y3:Y91) -> 0 | Q28: =SUMIF('gm rez'!E3:E91,"N",'gm rez'!Z3:Z91) -> 0 | R28: =C28=(D28+E28) -> TRUE | S28: =E28=SUM(F28:Q28) -> TRUE
A29: nowe zadania wieloletnie | B29: =COUNTIF('gm rez'!C3:C91,"W") -> 1 | C29: =SUMIF('gm rez'!C3:C91,"W",'gm rez'!K3:K91) -> 2285200.6 | D29: =SUMIF('gm rez'!C3:C91,"W",'gm rez'!M3:M91) -> 914080.26 | E29: =SUMIF('gm rez'!C3:C91,"W",'gm rez'!L3:L91) -> 1371120.4 | F29: =SUMIF('gm rez'!C3:C91,"W",'gm rez'!O3:O91) -> 0 | G29: =SUMIF('gm rez'!C3:C91,"W",'gm rez'!P3:P91) -> 0 | H29: =SUMIF('gm rez'!C3:C91,"W",'gm rez'!Q3:Q91) -> 0 | I29: =SUMIF('gm rez'!C3:C91,"W",'gm rez'!R3:R91) -> 0 | J29: =SUMIF('gm rez'!C3:C91,"W",'gm rez'!S3:S91) -> 0 | K29: =SUMIF('gm rez'!C3:C91,"W",'gm rez'!T3:T91) -> 0 | L29: =SUMIF('gm rez'!C3:C91,"W",'gm rez'!U3:U91) -> 0 | M29: =SUMIF('gm rez'!C3:C91,"W",'gm rez'!V3:V91) -> 547883.41 | N29: =SUMIF('gm rez'!C3:C91,"W",'gm rez'!W3:W91) -> 823236.97 | O29: =SUMIF('gm rez'!C3:C91,"W",'gm rez'!X3:X91) -> 0 | P29: =SUMIF('gm rez'!D3:D91,"W",'gm rez'!Y3:Y91) -> 0 | Q29: =SUMIF('gm rez'!E3:E91,"W",'gm rez'!Z3:Z91) -> 0 | R29: =C29=(D29+E29) -> TRUE | S29: =E29=SUM(F29:Q29) -> TRUE
A30: RAZEM listy rezerwowe | B30: =B24+B27 -> 108 | C30: =C24+C27 -> 3.1278743e+08 | D30: =D24+D27 -> 1.3655334e+08 | E30: =E24+E27 -> 1.7623408e+08 | F30: =F24+F27 -> 0 | G30: =G24+G27 -> 0 | H30: =H24+H27 -> 0 | I30: =I24+I27 -> 0 | ... Q30: =Q24+Q27 -> 0 | R30: =C30=(D30+E30) -> TRUE | S30: =E30=SUM(F30:Q30) -> TRUE
A31: nowe zadania jednoroczne | B31: =B25+B28 -> 104 | C31: =C25+C28 -> 2.749391e+08 | D31: =D25+D28 -> 1.2008206e+08 | E31: =E25+E28 -> 1.5485705e+08 | F31: =F25+F28 -> 0 | G31: =G25+G28 -> 0 | H31: =H25+H28 -> 0 | I31: =I25+I28 -> 0 | ... Q31: =Q25+Q28 -> 0 | R31: =C31=(D31+E31) -> TRUE | S31: =E31=SUM(F31:Q31) -> TRUE
A32: nowe zadania wieloletnie | B32: =B26+B29 -> 4 | C32: =C26+C29 -> 37848325 | D32: =D26+D29 -> 16471287 | E32: =E26+E29 -> 21377038 | F32: =F26+F29 -> 0 | G32: =G26+G29 -> 0 | H32: =H26+H29 -> 0 | I32: =I26+I29 -> 0 | ... Q32: =Q26+Q29 -> 0 | R32: =C32=(D32+E32) -> TRUE | S32: =E32=SUM(F32:Q32) -> TRUE
A33: RAZEM listy | B33: =B20+B30 -> 260 | C33: =C20+C30 -> 9.976091e+08 | D33: =D20+D30 -> 4.2345865e+08 | E33: =E20+E30 -> 5.7415044e+08 | F33: =F20+F30 -> 0 | G33: =G20+G30 -> 0 | H33: =H20+H30 -> 0 | I33: =I20+I30 -> 0 | ... Q33: =Q20+Q30 -> 0 | R33: =C33=(D33+E33) -> TRUE | S33: =E33=SUM(F33:Q33) -> TRUE
A34: kontynuowane zadania wieloletnie | B34: =B21 -> 19 | C34: =C21 -> 1.1283916e+08 | D34: =D21 -> 40942314 | E34: =E21 -> 71896851 | F34: =F21 -> 0 | G34: =G21 -> 0 | H34: =H21 -> 0 | I34: =I21 -> 0 | ... Q34: =Q21 -> 0 | R34: =C34=(D34+E34) -> TRUE | S34: =E34=SUM(F34:Q34) -> TRUE
A35: nowe zadania jednoroczne | B35: =B22+B31 -> 218 | C35: =C22+C31 -> 5.7823562e+08 | D35: =D22+D31 -> 2.5183906e+08 | E35: =E22+E31 -> 3.2639656e+08 | F35: =F22+F31 -> 0 | G35: =G22+G31 -> 0 | H35: =H22+H31 -> 0 | I35: =I22+I31 -> 0 | ... Q35: =Q22+Q31 -> 0 | R35: =C35=(D35+E35) -> TRUE | S35: =E35=SUM(F35:Q35) -> TRUE
A36: nowe zadania wieloletnie | B36: =B23+B32 -> 23 | C36: =C23+C32 -> 3.0653431e+08 | D36: =D23+D32 -> 1.3067729e+08 | E36: =E23+E32 -> 1.7585703e+08 | F36: =F23+F32 -> 0 | G36: =G23+G32 -> 0 | H36: =H23+H32 -> 0 | I36: =I23+I32 -> 0 | ... Q36: =Q23+Q32 -> 0 | R36: =C36=(D36+E36) -> TRUE | S36: =E36=SUM(F36:Q36) -> TRUE
B37: =B12+B16=B20 -> TRUE | C37: =C12+C16=C20 -> TRUE | D37: =D12+D16=D20 -> TRUE | E37: =E12+E16=E20 -> TRUE | F37: =F12+F16=F20 -> TRUE | G37: =G12+G16=G20 -> TRUE | H37: =H12+H16=H20 -> TRUE | I37: =I12+I16=I20 -> TRUE | ... Q37: =Q12+Q16=Q20 -> TRUE
B38: =B13+B17=B21 -> TRUE | C38: =C13+C17=C21 -> TRUE | D38: =D13+D17=D21 -> TRUE | E38: =E13+E17=E21 -> TRUE | F38: =F13+F17=F21 -> TRUE | G38: =G13+G17=G21 -> TRUE | H38: =H13+H17=H21 -> TRUE | I38: =I13+I17=I21 -> TRUE | ... Q38: =Q13+Q17=Q21 -> TRUE
B39: =B14+B18=B22 -> TRUE | C39: =C14+C18=C22 -> TRUE | D39: =D14+D18=D22 -> TRUE | E39: =E14+E18=E22 -> TRUE | F39: =F14+F18=F22 -> TRUE | G39: =G14+G18=G22 -> TRUE | H39: =H14+H18=H22 -> TRUE | I39: =I14+I18=I22 -> TRUE | ... Q39: =Q14+Q18=Q22 -> TRUE
B40: =B15+B19=B23 -> TRUE | C40: =C15+C19=C23 -> TRUE | D40: =D15+D19=D23 -> TRUE | E40: =E15+E19=E23 -> TRUE | F40: =F15+F19=F23 -> TRUE | G40: =G15+G19=G23 -> TRUE | H40: =H15+H19=H23 -> TRUE | I40: =I15+I19=I23 -> TRUE | ... Q40: =Q15+Q19=Q23 -> TRUE
B41: =B24+B27=B30 -> TRUE | C41: =C24+C27=C30 -> TRUE | D41: =D24+D27=D30 -> TRUE | E41: =E24+E27=E30 -> TRUE | F41: =F24+F27=F30 -> TRUE | G41: =G24+G27=G30 -> TRUE | H41: =H24+H27=H30 -> TRUE | I41: =I24+I27=I30 -> TRUE | ... Q41: =Q24+Q27=Q30 -> TRUE
B42: =B28+B25=B31 -> TRUE | C42: =C28+C25=C31 -> TRUE | D42: =D28+D25=D31 -> TRUE | E42: =E28+E25=E31 -> TRUE | F42: =F28+F25=F31 -> TRUE | G42: =G28+G25=G31 -> TRUE | H42: =H28+H25=H31 -> TRUE | I42: =I28+I25=I31 -> TRUE | ... Q42: =Q28+Q25=Q31 -> TRUE
B43: =B26+B29=B32 -> TRUE | C43: =C26+C29=C32 -> TRUE | D43: =D26+D29=D32 -> TRUE | E43: =E26+E29=E32 -> TRUE | F43: =F26+F29=F32 -> TRUE | G43: =G26+G29=G32 -> TRUE | H43: =H26+H29=H32 -> TRUE | I43: =I26+I29=I32 -> TRUE | ... Q43: =Q26+Q29=Q32 -> TRUE
...

Sheet pow podst
A1: L.p. | B1: Nr ewid. | C1: Zadanie nowe/kontynuowane/wieloletnie [N/K/W] | D1: Jednostka Samorządu Terytorialnego | E1: TERC | F1: Nazwa zadania | G1: Rodzaj zadania | H1: Długość odcinka (w km) | I1: Okres realizacji zadania | J1: Ogółem wartość projektu (w zł) | K1: Wnioskowana kwota dofinansowania (w zł) | L1: Deklarowana kwota środków własnych (w zł) | M1: % dofinansowania | N1: Kwota dofinansowania w podziale na lata
N2: 2019 | O2: 2020 | P2: 2021 | Q2: 2022 | R2: 2023 | S2: 2024 | T2: 2025 | U2: 2026 | V2: 2027 | W2: 2028 | X2: 2029 | Y2: 2030 | Z2: spr-lata | AA2: spr-procent | AB2: spr-dof | AC2: spr-montaż
A3: 1 | B3: RFRD/P/39/2025 | C3: K | D3: Powiat Biłgorajski | E3: 0602 | F3: Rozbudowa drogi powiatowej nr 2958L Wola Różaniecka - Różaniec od km 0+030 do km 7+677 | G3: B | H3: 7.647 | I3: 04.2025 - 12.2026 | J3: 18365298 | K3: =ROUNDDOWN(J3*M3,2) -> 12855708 | L3: =J3-K3 -> 5509589.3 | M3: 0.7 | T3: 6337316.3 | U3: 6518392.1 | Z3: =K3=SUM(N3:Y3) -> TRUE | AA3: =ROUND(K3/J3,4) -> 0.7 | AB3: =AA3=M3 -> TRUE | AC3: =J3=K3+L3 -> TRUE
A4: 2 | B4: RFRD/P/11/2025 | C4: K | D4: Powiat Radzyński | E4: 0615 | F4: Przebudowa dróg powiatowych na odcinku Kąkolewnica - Brzozowica Duża, droga nr 1202L od km 0+019 do km 4+668, droga nr 1200L od km 0+000 do km 3+204 o łącznej długości 7267 mb | G4: P | H4: 7.267 | I4: 04.2025 - 04.2027 | J4: 13334184 | K4: =ROUNDDOWN(J4*M4,2) -> 9333929.1 | L4: =J4-K4 -> 4000255.3 | M4: 0.7 | T4: 5144993.7 | U4: 3741154.2 | V4: 447781.16 | Z4: =K4=SUM(N4:Y4) -> TRUE | AA4: =ROUND(K4/J4,4) -> 0.7 | AB4: =AA4=M4 -> TRUE | AC4: =J4=K4+L4 -> TRUE
A5: 3 | B5: RFRD/P/35/2025 | C5: K | D5: Powiat Puławski | E5: 0614 | F5: Budowa mostu w ciągu drogi powiatowej nr 2234L wraz z rozbiórką istniejącego mostu oraz rozbudową drogi od km 0+003,00 do km 0+561,18 | G5: B | H5: 0.558 | I5: 06.2025 - 10.2026 | J5: 5111830.1 | K5: =ROUNDDOWN(J5*M5,2) -> 3578281.1 | L5: =J5-K5 -> 1533549 | M5: 0.7 | T5: 1793819 | U5: 1784462.1 | Z5: =K5=SUM(N5:Y5) -> TRUE | AA5: =ROUND(K5/J5,4) -> 0.7 | AB5: =AA5=M5 -> TRUE | AC5: =J5=K5+L5 -> TRUE
A6: 4 | B6: RFRD/P/6/2025 | C6: K | D6: Powiat Parczewski | E6: 0613 | F6: Rozbudowa drogi powiatowej nr 1095L (Jabłoń - Puchowa Góra) | G6: B | H6: 3.049 | I6: 04.2025 - 08.2026 | J6: 5466870.8 | K6: =ROUNDDOWN(J6*M6,2) -> 3280122.5 | L6: =J6-K6 -> 2186748.3 | M6: 0.6 | T6: 1641141.2 | U6: 1638981.2 | Z6: =K6=SUM(N6:Y6) -> TRUE | AA6: =ROUND(K6/J6,4) -> 0.6 | AB6: =AA6=M6 -> TRUE | AC6: =J6=K6+L6 -> TRUE
A7: 5 | B7: RFRD/P/9/2025 | C7: K | D7: Powiat Kraśnicki | E7: 0607 | F7: Przebudowa drogi powiatowej nr 2735L Stróża - Sulów na terenie gminy Kraśnik | G7: P | H7: 2.829 | I7: 06.2025 - 09.2026 | J7: 7605217.9 | K7: =ROUNDDOWN(J7*M7,2) -> 4563130.7 | L7: =J7-K7 -> 3042087.2 | M7: 0.6 | T7: 1433281.1 | U7: 3129849.6 | Z7: =K7=SUM(N7:Y7) -> TRUE | AA7: =ROUND(K7/J7,4) -> 0.6 | AB7: =AA7=M7 -> TRUE | AC7: =J7=K7+L7 -> TRUE
A8: 6 | B8: RFRD/P/8/2025 | C8: K | D8: Powiat Kraśnicki | E8: 0607 | F8: Przebudowa drogi powiatowej nr 2717L Kol. Słodków - Rzeczyca - Węglin położonej na terenie gminy Trzydnik Duży | G8: P | H8: 4.637 | I8: 11.2025 - 12.2026 | J8: 5254173.9 | K8: =ROUNDDOWN(J8*M8,2) -> 3152504.4 | L8: =J8-K8 -> 2101669.6 | M8: 0.6 | T8: 252629.81 | U8: 2899874.5 | Z8: =K8=SUM(N8:Y8) -> TRUE | AA8: =ROUND(K8/J8,4) -> 0.6 | AB8: =AA8=M8 -> TRUE | AC8: =J8=K8+L8 -> TRUE
A9: 7 | B9: RFRD/P/14/2026 | C9: W | D9: Powiat Krasnostawski | E9: 0606 | F9: Rozbudowa drogi powiatowej nr 3121L Krasnystaw - Niemienice od km 2+188 do km 8+678 o dł. 6,490 km | G9: B | H9: 6.49 | I9: 04.2026 - 10.2028 | J9: 34939453 | K9: =ROUNDDOWN(J9*M9,2) -> 20963672 | L9: =J9-K9 -> 13975781 | M9: 0.6 | U9: 4193310.3 | V9: 10481476 | W9: 6288885.5 | Z9: =K9=SUM(N9:Y9) -> TRUE | AA9: =ROUND(K9/J9,4) -> 0.6 | AB9: =AA9=M9 -> TRUE | AC9: =J9=K9+L9 -> TRUE
A10: 8 | B10: RFRD/P/1/2026 | C10: N | D10: Powiat Rycki | E10: 0616 | F10: Przebudowa dróg powiatowych nr 1426L i 1429L w miejscowościach Zawitała i Niedźwiedź | G10: P | H10: 2.042 | I10: 02.2026 - 11.2026 | J10: 4218820.4 | K10: =ROUNDDOWN(J10*M10,2) -> 2109410.2 | L10: =J10-K10 -> 2109410.2 | M10: 0.5 | U10: 2109410.2 | V10: 0 | W10: 0 | Z10: =K10=SUM(N10:Y10) -> TRUE | AA10: =ROUND(K10/J10,4) -> 0.5 | AB10: =AA10=M10 -> TRUE | AC10: =J10=K10+L10 -> TRUE
A11: 9 | B11: RFRD/P/8/2026 | C11: N | D11: Powiat Zamojski | E11: 0620 | F11: Przebudowa drogi powiatowej Nr 3210L Szczebrzeszyn - Topólcza - Zwierzyniec | G11: P | H11: 11.282 | I11: 03.2026 - 02.2027 | J11: 26317239 | K11: =ROUNDDOWN(J11*M11,2) -> 18422067 | L11: =J11-K11 -> 7895171.6 | M11: 0.7 | U11: 18422067 | V11: 0 | W11: 0 | Z11: =K11=SUM(N11:Y11) -> TRUE | AA11: =ROUND(K11/J11,4) -> 0.7 | AB11: =AA11=M11 -> TRUE | AC11: =J11=K11+L11 -> TRUE
A12: 10 | B12: RFRD/P/3/2026 | C12: W | D12: Miasto Zamość | E12: 0664 | F12: Rozbudowa drogi powiatowej nr 3351L (ul. Peowiaków) w km 0+000,00 do km 0+881,44 i drogi powiatowej nr 3332L (ul. Przemysłowej) od km 0+012,00 do km 0+078,39 w Zamościu | G12: B | H12: 0.947 | I12: 02.2026 - 11.2027 | J12: 19386918 | K12: =ROUNDDOWN(J12*M12,2) -> 11632151 | L12: =J12-K12 -> 7754767.4 | M12: 0.6 | U12: 3600000 | V12: 8032151 | W12: 0 | Z12: =K12=SUM(N12:Y12) -> TRUE | AA12: =ROUND(K12/J12,4) -> 0.6 | AB12: =AA12=M12 -> TRUE | AC12: =J12=K12+L12 -> TRUE
A13: 11 | B13: RFRD/P/11/2026 | C13: W | D13: Powiat Radzyński | E13: 0615 | F13: Przebudowa drogi powiatowej Nr 1250L Borki - Tchórzew - Bełcząc - Czemierniki - Stoczek od km 8+874 do km 18+750 | G13: P | H13: 9.876 | I13: 04.2026 - 05.2028 | J13: 25790600 | K13: =ROUNDDOWN(J13*M13,2) -> 12895300 | L13: =J13-K13 -> 12895300 | M13: 0.5 | U13: 5692773.3 | V13: 5075355.1 | W13: 2127171.8 | Z13: =K13=SUM(N13:Y13) -> TRUE | AA13: =ROUND(K13/J13,4) -> 0.5 | AB13: =AA13=M13 -> TRUE | AC13: =J13=K13+L13 -> TRUE
A14: 12 | B14: RFRD/P/12/2026 | C14: W | D14: Powiat Radzyński | E14: 0615 | F14: Przebudowa drogi powiatowej Nr 1206L od dr. Krajowej nr 63 Stok - Gąsiory - Główne od km 0+012 do km 10+022 | G14: P | H14: 9.936 | I14: 04.2026 - 05.2028 | J14: 19260950 | K14: =ROUNDDOWN(J14*M14,2) -> 9630474.8 | L14: =J14-K14 -> 9630474.8 | M14: 0.5 | U14: 4572629.1 | V14: 4363718 | W14: 694127.68 | Z14: =K14=SUM(N14:Y14) -> TRUE | AA14: =ROUND(K14/J14,4) -> 0.5 | AB14: =AA14=M14 -> TRUE | AC14: =J14=K14+L14 -> TRUE
A15: 13 | B15: RFRD/P/17/2026 | C15: N | D15: Powiat Lubelski | E15: 0609 | F15: Przebudowa drogi powiatowej nr 2427L na terenie gminy Bełżyce | G15: P | H15: 4.992 | I15: 05.2026 - 04.2027 | J15: 29006960 | K15: =ROUNDDOWN(J15*M15,2) -> 17404176 | L15: =J15-K15 -> 11602784 | M15: 0.6 | U15: 17404176 | V15: 0 | W15: 0 | Z15: =K15=SUM(N15:Y15) -> TRUE | AA15: =ROUND(K15/J15,4) -> 0.6 | AB15: =AA15=M15 -> TRUE | AC15: =J15=K15+L15 -> TRUE
A16: 14 | B16: RFRD/P/15/2026 | C16: N | D16: Powiat Puławski | E16: 0614 | F16: Przebudowa drogi powiatowej nr 2536L - IV etap | G16: P | H16: 2.26 | I16: 06.2026 - 05.2027 | J16: 11782291 | K16: =ROUNDDOWN(J16*M16,2) -> 5891145.4 | L16: =J16-K16 -> 5891145.4 | M16: 0.5 | U16: 5891145.4 | V16: 0 | W16: 0 | Z16: =K16=SUM(N16:Y16) -> TRUE | AA16: =ROUND(K16/J16,4) -> 0.5 | AB16: =AA16=M16 -> TRUE | AC16: =J16=K16+L16 -> TRUE
A17: 15 | B17: RFRD/P/29/2026 | C17: W | D17: Gmina Miejska Biała Podlaska | E17: 0661 | F17: Przebudowa drogi powiatowej nr 1174L ul. Żeromskiego od km 0+000 do km 0+504, drogi powiatowej nr 1160L Al. Jana Pawła II od km 0+000 do km 0+245 i drogi powiatowej nr 1161L ul. Nowej od km 0+000 do km 0+070 w Białej Podlaskiej | G17: P | H17: 0.819 | I17: 05.2026 - 10.2027 | J17: 14608072 | K17: =ROUNDDOWN(J17*M17,2) -> 8764842.9 | L17: =J17-K17 -> 5843228.6 | M17: 0.6 | U17: 3690000 | V17: 5074842.9 | W17: 0 | Z17: =K17=SUM(N17:Y17) -> TRUE | AA17: =ROUND(K17/J17,4) -> 0.6 | AB17: =AA17=M17 -> TRUE | AC17: =J17=K17+L17 -> TRUE
A18: 16 | B18: RFRD/P/9/2026 | C18: N | D18: Powiat Biłgorajski | E18: 0602 | F18: Przebudowa drogi powiatowej Nr 3002L - ul. Sitarska od km 0+005,20 do km 0+499 oraz drogi powiatowej Nr 2972L - ul. Al. 400-lecia od km 1+159,15 do km 1+597 w miejscowości Biłgoraj | G18: P | H18: 0.932 | I18: 03.2026 - 12.2026 | J18: 5626383.4 | K18: =ROUNDDOWN(J18*M18,2) -> 3375830 | L18: =J18-K18 -> 2250553.4 | M18: 0.6 | U18: 3375830 | V18: 0 | W18: 0 | Z18: =K18=SUM(N18:Y18) -> TRUE | AA18: =ROUND(K18/J18,4) -> 0.6 | AB18: =AA18=M18 -> TRUE | AC18: =J18=K18+L18 -> TRUE
A19: 17 | B19: RFRD/P/40/2026 | C19: N | D19: Powiat Łukowski | E19: 0611 | F19: Budowa drogi powiatowej nr 1348L od km 7+160 do km 10+102,31 na odcinku Lipiny - Dąbrówka oraz przebudowa drogi powiatowej nr 1360L od km 7+550 do km 11+780 na odcinku Wola Gułowska - Lipiny | G19: P | H19: 7.175 | I19: 06.2026 - 05.2027 | J19: 14025161 | K19: =ROUNDDOWN(J19*M19,2) -> 7012580.6 | L19: =J19-K19 -> 7012580.6 | M19: 0.5 | U19: 7012580.6 | V19: 0 | W19: 0 | Z19: =K19=SUM(N19:Y19) -> TRUE | AA19: =ROUND(K19/J19,4) -> 0.5 | AB19: =AA19=M19 -> TRUE | AC19: =J19=K19+L19 -> TRUE
A20: 18 | B20: RFRD/P/42/2026 | C20: N | D20: Powiat Włodawski | E20: 0619 | F20: Przebudowa drogi powiatowej nr 1624L Urszulin - Hańsk od km 2+900 do km 6+630 | G20: P | H20: 3.73 | I20: 04.2026 - 10.2026 | J20: 5540137.5 | K20: =ROUNDDOWN(J20*M20,2) -> 2770068.8 | L20: =J20-K20 -> 2770068.8 | M20: 0.5 | U20: 2770068.8 | V20: 0 | W20: 0 | Z20: =K20=SUM(N20:Y20) -> TRUE | AA20: =ROUND(K20/J20,4) -> 0.5 | AB20: =AA20=M20 -> TRUE | AC20: =J20=K20+L20 -> TRUE
... A26: 24 | B26: RFRD/P/13/2026 | C26: N | D26: Powiat Krasnostawski | E26: 0606 | F26: Rozbudowa drogi powiatowej nr 3146L Brzeziny - Majdan Surhowski - Franciszków - Orłów Murowany - Izbica od km 1+516 do km 5+097 o dł. 3,581 km | G26: B | H26: 3.581 | I26: 04.2026 - 11.2026 | J26: 11228900 | K26: =ROUNDDOWN(J26*M26,2) -> 6737340 | L26: =J26-K26 -> 4491560 | M26: 0.6 | U26: 6737340 | V26: 0 | W26: 0 | Z26: =K26=SUM(N26:Y26) -> TRUE | AA26: =ROUND(K26/J26,4) -> 0.6 | AB26: =AA26=M26 -> TRUE | AC26: =J26=K26+L26 -> TRUE
A27: 25 | B27: RFRD/P/18/2026 | C27: N | D27: Powiat Lubelski | E27: 0609 | F27: Rozbudowa drogi powiatowej nr 2248L w miejscowości Kępa - Kolonia | G27: B | H27: 2.037 | I27: 05.2026 - 04.2027 | J27: 6641107.7 | K27: =ROUNDDOWN(J27*M27,2) -> 3984664.6 | L27: 2656443.1 | M27: 0.6 | U27: 3984664.6 | V27: 0 | Z27: =K27=SUM(N27:Y27) -> TRUE | AA27: =ROUND(K27/J27,4) -> 0.6 | AB27: =AA27=M27 -> TRUE | AC27: =J27=K27+L27 -> TRUE
A28: 26 | B28: RFRD/P/34/2026 | C28: N | D28: Powiat Hrubieszowski | E28: 0604 | F28: Remont drogi powiatowej nr 3427L Sahryń - Modryń od km 4+797 do km 5+792 w miejscowości Modryń Kolonia | G28: R | H28: 0.995 | I28: 05.2026 - 09.2026 | J28: 1267240.4 | K28: =ROUNDDOWN(J28*M28,2) -> 633620.19 | L28: =J28-K28 -> 633620.2 | M28: 0.5 | U28: =K28 -> 633620.19 | V28: 0 | Z28: =K28=SUM(N28:Y28) -> TRUE | AA28: =ROUND(K28/J28,4) -> 0.5 | AB28: =AA28=M28 -> TRUE | AC28: =J28=K28+L28 -> TRUE
A29: 27* | B29: RFRD/P/22/2026 | C29: W | D29: Powiat Bialski | E29: 0601 | F29: Rozbudowa drogi powiatowej Nr 1114L w m. Porosiuki i Wysokie | G29: B | H29: 3.058 | I29: 06.2026 - 11.2027 | J29: 24161607 | K29: 13300997 | L29: =J29-K29 -> 10860610 | M29: 0.7 | U29: 4840234.2 | V29: 8460762.6 | W29: 0 | Z29: =K29=SUM(N29:Y29) -> TRUE | AA29: =ROUND(K29/J29,4) -> 0.5505 | AB29: =AA29=M29 -> FALSE | AC29: =J29=K29+L29 -> TRUE
A30: RAZEM, z tego: | H30: =SUM(H3:H29) -> 109.423 | I30: x | J30: =SUM(J3:J29) -> 3.5055138e+08 | K30: =SUM(K3:K29) -> 2.1078157e+08 | L30: =SUM(L3:L29) -> 1.3976981e+08 | M30: x | N30: =SUM(N3:N29) -> 0 | O30: =SUM(O3:O29) -> 0 | P30: =SUM(P3:P29) -> 0 | Q30: =SUM(Q3:Q29) -> 0 | R30: =SUM(R3:R29) -> 0 | S30: =SUM(S3:S29) -> 0 | T30: =SUM(T3:T29) -> 16603181 | U30: =SUM(U3:U29) -> 1.3363595e+08 | ... Y30: =SUM(Y3:Y29) -> 0 | Z30: =K30=SUM(N30:Y30) -> TRUE | AA30: =ROUND(K30/J30,4) -> 0.6013 | AB30: =AA30=M30 -> FALSE | AC30: =J30=K30+L30 -> TRUE
A31: kontynuowane zadania wieloletnie | H31: =SUMIF($C$3:$C$29,"K",H3:H29) -> 25.987 | I31: x | J31: =SUMIF($C$3:$C$29,"K",J3:J29) -> 55137575 | K31: =SUMIF($C$3:$C$29,"K",K3:K29) -> 36763676 | L31: =SUMIF($C$3:$C$29,"K",L3:L29) -> 18373899 | M31: x | N31: =SUMIF($C$3:$C$29,"K",N3:N29) -> 0 | O31: =SUMIF($C$3:$C$29,"K",O3:O29) -> 0 | P31: =SUMIF($C$3:$C$29,"K",P3:P29) -> 0 | Q31: =SUMIF($C$3:$C$29,"K",Q3:Q29) -> 0 | R31: =SUMIF($C$3:$C$29,"K",R3:R29) -> 0 | S31: =SUMIF($C$3:$C$29,"K",S3:S29) -> 0 | T31: =SUMIF($C$3:$C$29,"K",T3:T29) -> 16603181 | U31: =SUMIF($C$3:$C$29,"K",U3:U29) -> 19712714 | ... Y31: =SUMIF($C$3:$C$29,"K",Y3:Y29) -> 0 | Z31: =K31=SUM(N31:Y31) -> TRUE | AA31: =ROUND(K31/J31,4) -> 0.6668 | AB31: x | AC31: =J31=K31+L31 -> TRUE
A32: nowe zadania jednoroczne | H32: =SUMIF($C$3:$C$29,"N",H3:H29) -> 46.438 | I32: x | J32: =SUMIF($C$3:$C$29,"N",J3:J29) -> 1.3114133e+08 | K32: =SUMIF($C$3:$C$29,"N",K3:K29) -> 79034366 | L32: =SUMIF($C$3:$C$29,"N",L3:L29) -> 52106960 | M32: x | N32: =SUMIF($C$3:$C$29,"N",N3:N29) -> 0 | O32: =SUMIF($C$3:$C$29,"N",O3:O29) -> 0 | P32: =SUMIF($C$3:$C$29,"N",P3:P29) -> 0 | Q32: =SUMIF($C$3:$C$29,"N",Q3:Q29) -> 0 | R32: =SUMIF($C$3:$C$29,"N",R3:R29) -> 0 | S32: =SUMIF($C$3:$C$29,"N",S3:S29) -> 0 | T32: =SUMIF($C$3:$C$29,"N",T3:T29) -> 0 | U32: =SUMIF($C$3:$C$29,"N",U3:U29) -> 79034366 | ... Y32: =SUMIF($C$3:$C$29,"N",Y3:Y29) -> 0 | Z32: =K32=SUM(N32:Y32) -> TRUE | AA32: =ROUND(K32/J32,4) -> 0.6027 | AB32: x | AC32: =J32=K32+L32 -> TRUE
A33: nowe zadania wieloletnie | H33: =SUMIF($C$3:$C$29,"W",H3:H29) -> 36.998 | I33: x | J33: =SUMIF($C$3:$C$29,"W",J3:J29) -> 1.6427248e+08 | K33: =SUMIF($C$3:$C$29,"W",K3:K29) -> 94983524 | L33: =SUMIF($C$3:$C$29,"W",L3:L29) -> 69288952 | M33: x | N33: =SUMIF($C$3:$C$29,"W",N3:N29) -> 0 | O33: =SUMIF($C$3:$C$29,"W",O3:O29) -> 0 | P33: =SUMIF($C$3:$C$29,"W",P3:P29) -> 0 | Q33: =SUMIF($C$3:$C$29,"W",Q3:Q29) -> 0 | R33: =SUMIF($C$3:$C$29,"W",R3:R29) -> 0 | S33: =SUMIF($C$3:$C$29,"W",S3:S29) -> 0 | T33: =SUMIF($C$3:$C$29,"W",T3:T29) -> 0 | U33: =SUMIF($C$3:$C$29,"W",U3:U29) -> 34888870 | ... Y33: =SUMIF($C$3:$C$29,"W",Y3:Y29) -> 0 | Z33: =K33=SUM(N33:Y33) -> TRUE | AA33: =ROUND(K33/J33,4) -> 0.5782 | AB33: x | AC33: =J33=K33+L33 -> TRUE
A35: B - budowa (rozbudowa), P - przebudowa, R - remont
A36: kolorem czerwonym oznaczono zadania wieloletnie
A37: N - nowe zadanie jednoroczne, K - kontynuowane zadanie wieloletnie z wcześniejszego naboru, W - nowe zadanie wieloletnie
A38: * Kwota dofinansowania zmniejszona do limitu dostępnych środków Rządowego Funduszu Rozwoju Dróg; zwiększenie dofinansowania możliwe w przypadku wystąpienia oszczędności. W przypadku braku oszczędności w Funduszu, realizacja zadania będzie wymagała zabezpieczenia wkładu własnego wnioskodawcy w większej wysokości.

Sheet gm podst
A1: L.p. | B1: Nr ewid. | C1: Zadanie nowe/kontynuowane/wieloletnie [N/K/W] | D1: Jednostka Samorządu Terytorialnego | E1: TERC | F1: Powiat | G1: Nazwa zadania | H1: Rodzaj zadania | I1: Długość odcinka (w km) | J1: Okres realizacji zadania | K1: Ogółem wartość projektu (w zł) | L1: Wnioskowana kwota dofinansowania (w zł) | M1: Deklarowana kwota środków własnych (w zł) | N1: % dofinansowania | O1: Kwota dofinansowania w podziale na lata
O2: 2019 | P2: 2020 | Q2: 2021 | R2: 2022 | S2: 2023 | T2: 2024 | U2: 2025 | V2: 2026 | W2: 2027 | X2: 2028 | Y2: 2029 | Z2: 2030 | AA2: spr-lata | AB2: spr-procent | AC2: spr-dof | AD2: spr-montaż
A3: 1 | B3: RFRD/222/G/2024 | C3: K | D3: Miasto Krasnystaw | E3: 0606011 | F3: krasnostawski | G3: Rozbudowa drogi gminnej Nr 109781L ul. Kaczej w Krasnymstawie | H3: B | I3: 0.655 | J3: 10.2024 - 07.2026 | K3: 15098484 | L3: =ROUNDDOWN(K3*N3,2) -> 10568939 | M3: =K3-L3 -> 4529545.3 | N3: 0.7 | T3: 2183047 | U3: 5261150.6 | V3: 3124741.5 | AA3: =L3=SUM(O3:Z3) -> TRUE | AB3: =ROUND(L3/K3,4) -> 0.7 | AC3: =AB3=N3 -> TRUE | AD3: =K3=L3+M3 -> TRUE
A4: 2 | B4: RFRD/G/87/2025 | C4: K | D4: Miasto Puławy | E4: 0614011 | F4: puławski | G4: Budowa i przebudowa drogi w ul. 4 Pułku Piechoty Wojska Polskiego nr 107610L w Puławach na odcinku od km 0+730,52 do km 2+052,92 | H4: P | I4: 1.322 | J4: 06.2025 - 10.2026 | K4: 7573010.8 | L4: =ROUNDDOWN(K4*N4,2) -> 3786505.4 | M4: =K4-L4 -> 3786505.4 | N4: 0.5 | U4: 1434764.2 | V4: 2351741.2 | AA4: =L4=SUM(O4:Z4) -> TRUE | AB4: =ROUND(L4/K4,4) -> 0.5 | AC4: =AB4=N4 -> TRUE | AD4: =K4=L4+M4 -> TRUE
A5: 3 | B5: RFRD/G/194/2025 | C5: K | D5: Gmina Miejska Biała Podlaska | E5: 0661 | F5: miasto na prawach powiatu Biała Podlaska | G5: Budowa drogi gminnej nr 100387L ul. Ceglanej od km 0+261,00 do km 1+031,00 w Białej Podlaskiej | H5: B | I5: 0.77 | J5: 06.2025 - 09.2026 | K5: 6179799.2 | L5: =ROUNDDOWN(K5*N5,2) -> 4325859.4 | M5: =K5-L5 -> 1853939.8 | N5: 0.7 | U5: 772415 | V5: 3553444.4 | AA5: =L5=SUM(O5:Z5) -> TRUE | AB5: =ROUND(L5/K5,4) -> 0.7 | AC5: =AB5=N5 -> TRUE | AD5: =K5=L5+M5 -> TRUE
A6: 4 | B6: RFRD/G/28/2025 | C6: K | D6: Miasto Krasnystaw | E6: 0606011 | F6: krasnostawski | G6: Rozbudowa drogi gminnej nr 109799L ul. Nieczaja w Krasnymstawie | H6: B | I6: 0.294 | J6: 04.2025 - 07.2026 | K6: 4974655.1 | L6: =ROUNDDOWN(K6*N6,2) -> 2984793 | M6: =K6-L6 -> 1989862 | N6: 0.6 | U6: 671704.09 | V6: 2313089 | AA6: =L6=SUM(O6:Z6) -> TRUE | AB6: =ROUND(L6/K6,4) -> 0.6 | AC6: =AB6=N6 -> TRUE | AD6: =K6=L6+M6 -> TRUE
A7: 5 | B7: RFRD/G/171/2025 | C7: K | D7: Gmina Głusk | E7: 0609052 | F7: lubelski | G7: Budowa drogi gminnej nr 112440L w miejscowości Wilczopole, Kalinówka, Głusk | H7: B | I7: 1.4 | J7: 07.2025 - 09.2026 | K7: 2421856 | L7: =ROUNDDOWN(K7*N7,2) -> 1695299.2 | M7: =K7-L7 -> 726556.82 | N7: 0.7 | U7: 1017937.2 | V7: 677362.01 | AA7: =L7=SUM(O7:Z7) -> TRUE | AB7: =ROUND(L7/K7,4) -> 0.7 | AC7: =AB7=N7 -> TRUE | AD7: =K7=L7+M7 -> TRUE
A8: 6 | B8: RFRD/G/82/2025 | C8: K | D8: Gmina Miasto Biłgoraj | E8: 0602011 | F8: biłgorajski | G8: Rozbudowa drogi gminnej nr 115145L ul. Parkowa od km 0+841,90 do km 1+461,03 i budowa drogi gminnej bez numeru ul. Makowa od km 0+003,50 do km 0+340,67 oraz budowa drogi gminnej bez numeru ul. Wiśniowa od km 0+003,50 do km 0+316,50 w Biłgoraju | H8: B | I8: 1.269 | J8: 05.2025 - 07.2026 | K8: 6137171.9 | L8: =ROUNDDOWN(K8*N8,2) -> 3068586 | M8: =K8-L8 -> 3068586 | N8: 0.5 | U8: 2620434.1 | V8: 448151.87 | AA8: =L8=SUM(O8:Z8) -> TRUE | AB8: =ROUND(L8/K8,4) -> 0.5 | AC8: =AB8=N8 -> TRUE | AD8: =K8=L8+M8 -> TRUE
A9: 7 | B9: RFRD/G/172/2025 | C9: K | D9: Gmina Głusk | E9: 0609052 | F9: lubelski | G9: Budowa sieci dróg gminnych nr 106529L oraz 112435L w miejscowości Kalinówka, Wilczopole, Kazimierzówka, Kliny - etap I | H9: B | I9: 1.93 | J9: 07.2025 - 09.2026 | K9: 3202819.6 | L9: =ROUNDDOWN(K9*N9,2) -> 2241973.8 | M9: =K9-L9 -> 960845.9 | N9: 0.7 | U9: 1338235.2 | V9: 903738.5 | AA9: =L9=SUM(O9:Z9) -> TRUE | AB9: =ROUND(L9/K9,4) -> 0.7 | AC9: =AB9=N9 -> TRUE | AD9: =K9=L9+M9 -> TRUE
A10: 8 | B10: RFRD/G/121/2025 | C10: K | D10: Gmina Miejska Świdnik | E10: 0617011 | F10: świdnicki | G10: Budowa ulicy Skośnej w Świdniku wraz z infrastrukturą towarzyszącą na odcinku od ul. Nadleśnej do ul. Lotniczej | H10: B | I10: 0.532 | J10: 07.2025 - 08.2026 | K10: 4295801.9 | L10: =ROUNDDOWN(K10*N10,2) -> 2147900.9 | M10: =K10-L10 -> 2147900.9 | N10: 0.5 | U10: 1043446.8 | V10: 1104454.2 | AA10: =L10=SUM(O10:Z10) -> TRUE | AB10: =ROUND(L10/K10,4) -> 0.5 | AC10: =AB10=N10 -> TRUE | AD10: =K10=L10+M10 -> TRUE
A11: 9 | B11: RFRD/G/27/2025 | C11: K | D11: Miasto Krasnystaw | E11: 0606011 | F11: krasnostawski | G11: Rozbudowa drogi gminnej nr 109775L ul. Gawryłowa w Krasnymstawie | H11: B | I11: 0.119 | J11: 04.2025 - 08.2026 | K11: 2250311.9 | L11: =ROUNDDOWN(K11*N11,2) -> 1350187.1 | M11: =K11-L11 -> 900124.75 | N11: 0.6 | U11: 570837.36 | V11: 779349.76 | AA11: =L11=SUM(O11:Z11) -> TRUE | AB11: =ROUND(L11/K11,4) -> 0.6 | AC11: =AB11=N11 -> TRUE | AD11: =K11=L11+M11 -> TRUE
A12: 10 | B12: RFRD/G/50/2025 | C12: K | D12: Gmina Józefów nad Wisłą | E12: 0612023 | F12: opolski | G12: Przebudowa drogi gminnej 108260L w m. Kolczyn, gm. Józefów nad Wisłą na odcinku od km 0+000 do km 1+254,5 dł. 1,2545 km | H12: P | I12: 1.255 | J12: 07.2025 - 09.2026 | K12: 706574.35 | L12: =ROUNDDOWN(K12*N12,2) -> 423944.61 | M12: =K12-L12 -> 282629.74 | N12: 0.6 | U12: 169181.96 | V12: 254762.65 | AA12: =L12=SUM(O12:Z12) -> TRUE | AB12: =ROUND(L12/K12,4) -> 0.6 | AC12: =AB12=N12 -> TRUE | AD12: =K12=L12+M12 -> TRUE
A13: 11 | B13: RFRD/G/49/2025 | C13: K | D13: Gmina Józefów nad Wisłą | E13: 0612023 | F13: opolski | G13: Przebudowa drogi gminnej 108261L w m. Rybitwy, gm. Józefów nad Wisłą na odcinku od km 0+000 do km 1+432,00 dł. 1,432 km | H13: P | I13: 1.432 | J13: 10.2025 - 12.2026 | K13: 1086338.9 | L13: =ROUNDDOWN(K13*N13,2) -> 651803.32 | M13: =K13-L13 -> 434535.55 | N13: 0.6 | U13: 237344.85 | V13: 414458.47 | AA13: =L13=SUM(O13:Z13) -> TRUE | AB13: =ROUND(L13/K13,4) -> 0.6 | AC13: =AB13=N13 -> TRUE | AD13: =K13=L13+M13 -> TRUE
A14: 12 | B14: RFRD/G/122/2025 | C14: K | D14: Gmina Miejska Świdnik | E14: 0617011 | F14: świdnicki | G14: Przebudowa drogi gminnej nr 105657L - ul. Turystycznej w Świdniku wraz z infrastrukturą towarzyszącą | H14: P | I14: 0.187 | J14: 11.2025 - 12.2026 | K14: 3147337.5 | L14: =ROUNDDOWN(K14*N14,2) -> 1573668.8 | M14: =K14-L14 -> 1573668.8 | N14: 0.5 | U14: 630000 | V14: 943668.77 | AA14: =L14=SUM(O14:Z14) -> TRUE | AB14: =ROUND(L14/K14,4) -> 0.5 | AC14: =AB14=N14 -> TRUE | AD14: =K14=L14+M14 -> TRUE
A15: 13 | B15: RFRD/G/108/2025 | C15: K | D15: Miasto Międzyrzec Podlaski | E15: 0601011 | F15: bialski | G15: Przebudowa drogi gminnej nr 101569L od km 0+006,00 do km 0+345,00 ul. A. Mickiewicza w Międzyrzecu Podlaskim | H15: P | I15: 0.339 | J15: 11.2025 - 12.2026 | K15: 627428.17 | L15: =ROUNDDOWN(K15*N15,2) -> 313714.08 | M15: =K15-L15 -> 313714.09 | N15: 0.5 | U15: 51716.09 | V15: 261997.99 | AA15: =L15=SUM(O15:Z15) -> TRUE | AB15: =ROUND(L15/K15,4) -> 0.5 | AC15: =AB15=N15 -> TRUE | AD15: =K15=L15+M15 -> TRUE
A16: 14 | B16: RFRD/G/186/2026 | C16: W | D16: Miasto Międzyrzec Podlaski | E16: 0601011 | F16: bialski | G16: Budowa drogi gminnej łączącej ul. T. Kościuszki z ul. Siteńską od km 0+000,00 do km 0+522,28 oraz od km 0+607,90 do km 0+941,56 wraz z łącznikami w Międzyrzecu Podlaskim | H16: B | I16: 1.393 | J16: 05.2026 - 10.2027 | K16: 31986483 | L16: =ROUNDDOWN(K16*N16,2) -> 19191890 | M16: =K16-L16 -> 12794593 | N16: 0.6 | V16: 9801195.5 | W16: 9390694.3 | AA16: =L16=SUM(O16:Z16) -> TRUE | AB16: =ROUND(L16/K16,4) -> 0.6 | AC16: =AB16=N16 -> TRUE | AD16: =K16=L16+M16 -> TRUE
A17: 15 | B17: RFRD/G/192/2026 | C17: N | D17: Gmina Stanin | E17: 0611072 | F17: łukowski | G17: Przebudowa drogi gminnej nr 102649L od km 1+023,40 do km 2+022,40 oraz od km 2+022,40 do km 3+021,40 oraz od km 3+028,60 do km 3+450,00 w miejscowości Jeleniec | H17: P | I17: 2.419 | J17: 05.2026 - 11.2026 | K17: 1387136.3 | L17: =ROUNDDOWN(K17*N17,2) -> 832281.78 | M17: =K17-L17 -> 554854.53 | N17: 0.6 | V17: 832281.78 | W17: 0 | AA17: =L17=SUM(O17:Z17) -> TRUE | AB17: =ROUND(L17/K17,4) -> 0.6 | AC17: =AB17=N17 -> TRUE | AD17: =K17=L17+M17 -> TRUE
A18: 16 | B18: RFRD/G/37/2026 | C18: N | D18: Gmina Jabłoń | E18: 0613022 | F18: parczewski | G18: Rozbudowa drogi gminnej nr 103762L - ul. 3-go Maja w miejscowości Jabłoń na odcinku od km 0+000,00 do km 0+811,63 | H18: B | I18: 0.811 | J18: 02.2026 - 10.2026 | K18: 3065698.6 | L18: =ROUNDDOWN(K18*N18,2) -> 1839419.1 | M18: =K18-L18 -> 1226279.4 | N18: 0.6 | V18: 1839419.1 | W18: 0 | AA18: =L18=SUM(O18:Z18) -> TRUE | AB18: =ROUND(L18/K18,4) -> 0.6 | AC18: =AB18=N18 -> TRUE | AD18: =K18=L18+M18 -> TRUE
A19: 17 | B19: RFRD/G/172/2026 | C19: N | D19: Gmina Zwierzyniec | E19: 0620153 | F19: zamojski | G19: Przebudowa dróg gminnych Nr 110799L (ul. 2 Lutego), Nr 110798L (ul. Armii Krajowej) oraz Nr 110802L (ul. Leśna) w Zwierzyńcu | H19: P | I19: 0.643 | J19: 05.2026 - 11.2026 | K19: 2564353.6 | L19: =ROUNDDOWN(K19*N19,2) -> 1538612.1 | M19: =K19-L19 -> 1025741.4 | N19: 0.6 | V19: 1538612.1 | W19: 0 | AA19: =L19=SUM(O19:Z19) -> TRUE | AB19: =ROUND(L19/K19,4) -> 0.6 | AC19: =AB19=N19 -> TRUE | AD19: =K19=L19+M19 -> TRUE
A20: 18 | B20: RFRD/G/6/2026 | C20: W | D20: Miasto Zamość | E20: 0664 | F20: miasto na prawach powiatu Zamość | G20: Przebudowa drogi gminnej nr 112124L ulicy Koszary od km 0+000 do km 0+300,19, przebudowa drogi wewnętrznej nr 2 od km 0+000 do km 0+240,12, przebudowa drogi wewnętrznej nr 3 od km 0+000,00 do km 0+248,28 w Zamościu | H20: P | I20: 0.788 | J20: 03.2026 - 11.2027 | K20: 8251924.8 | L20: =ROUNDDOWN(K20*N20,2) -> 4951154.9 | M20: =K20-L20 -> 3300769.9 | N20: 0.6 | V20: 2400000 | W20: 2551154.9 | AA20: =L20=SUM(O20:Z20) -> TRUE | AB20: =ROUND(L20/K20,4) -> 0.6 | AC20: =AB20=N20 -> TRUE | AD20: =K20=L20+M20 -> TRUE
A21: 19 | B21: RFRD/G/49/2026 | C21: N | D21: Gmina Modliborzyce | E21: 0605063 | F21: janowski | G21: Przebudowa drogi gminnej nr 108735L Modliborzyce-Lute od km 1+110 do km 1+680 | H21: P | I21: 0.57 | J21: 06.2026 - 11.2026 | K21: 664434.95 | L21: =ROUNDDOWN(K21*N21,2) -> 332217.47 | M21: =K21-L21 -> 332217.48 | N21: 0.5 | V21: 332217.47 | W21: 0 | AA21: =L21=SUM(O21:Z21) -> TRUE | AB21: =ROUND(L21/K21,4) -> 0.5 | AC21: =AB21=N21 -> TRUE | AD21: =K21=L21+M21 -> TRUE
A22: 20 | B22: RFRD/G/134/2026 | C22: W | D22: Gmina Krasnobród | E22: 0620043 | F22: zamojski | G22: Budowa drogi gminnej w miejscowości Grabnik | H22: B | I22: 3.538 | J22: 03.2026 - 06.2027 | K22: 12920476 | L22: =ROUNDDOWN(K22*N22,2) -> 6460238.2 | M22: =K22-L22 -> 6460238.2 | N22: 0.5 | V22: 3230119.1 | W22: 3230119.1 | AA22: =L22=SUM(O22:Z22) -> TRUE | AB22: =ROUND(L22/K22,4) -> 0.5 | AC22: =AB22=N22 -> TRUE | AD22: =K22=L22+M22 -> TRUE
A23: 21 | B23: RFRD/G/28/2026 | C23: N | D23: Gmina Radecznica | E23: 0620082 | F23: zamojski | G23: Budowa drogi gminnej nr 116601L w miejscowości Trzęsiny od km 0+474 do km 1+039 | H23: B | I23: 0.566 | J23: 03.2026 - 11.2026 | K23: 1654255.6 | L23: =ROUNDDOWN(K23*N23,2) -> 827127.8 | M23: =K23-L23 -> 827127.81 | N23: 0.5 | V23: 827127.8 | W23: 0 | AA23: =L23=SUM(O23:Z23) -> TRUE | AB23: =ROUND(L23/K23,4) -> 0.5 | AC23: =AB23=N23 -> TRUE | AD23: =K23=L23+M23 -> TRUE
A24: 22 | B24: RFRD/G/65/2026 | C24: N | D24: Gmina Miejska Włodawa | E24: 0619011 | F24: włodawski | G24: Przebudowa drogi wewnętrznej we Włodawie od km 0+000,00 do km 0+217,5 | H24: P | I24: 0.218 | J24: 05.2026 - 11.2026 | K24: 1120301.7 | L24: =ROUNDDOWN(K24*N24,2) -> 672181 | M24: =K24-L24 -> 448120.68 | N24: 0.6 | V24: 672181 | W24: 0 | AA24: =L24=SUM(O24:Z24) -> TRUE | AB24: =ROUND(L24/K24,4) -> 0.6 | AC24: =AB24=N24 -> TRUE | AD24: =K24=L24+M24 -> TRUE
A25: 23 | B25: RFRD/G/146/2026 | C25: N | D25: Gmina Łuków | E25: 0611052 | F25: łukowski | G25: Przebudowa drogi gminnej nr 102334L od km 0+009,00 do km 2+633,00 w miejscowości Zalesie | H25: P | I25: 2.624 | J25: 03.2026 - 11.2026 | K25: 3834000.4 | L25: =ROUNDDOWN(K25*N25,2) -> 1917000.2 | M25: =K25-L25 -> 1917000.2 | N25: 0.5 | V25: 1917000.2 | W25: 0 | AA25: =L25=SUM(O25:Z25) -> TRUE | AB25: =ROUND(L25/K25,4) -> 0.5 | AC25: =AB25=N25 -> TRUE | AD25: =K25=L25+M25 -> TRUE
A26: 24 | B26: RFRD/G/217/2026 | C26: W | D26: Gmina Ostrów Lubelski | E26: 0608103 | F26: lubartowski | G26: Budowa i przebudowa dróg gminnych w miejscowości Rozkopaczew | H26: B | I26: 2.149 | J26: 04.2026 - 11.2027 | K26: 6715765.5 | L26: =ROUNDDOWN(K26*N26,2) -> 4029459.3 | M26: =K26-L26 -> 2686306.2 | N26: 0.6 | V26: 2015393.9 | W26: 2014065.5 | AA26: =L26=SUM(O26:Z26) -> TRUE | AB26: =ROUND(L26/K26,4) -> 0.6 | AC26: =AB26=N26 -> TRUE | AD26: =K26=L26+M26 -> TRUE
A27: 25 | B27: RFRD/G/82/2026 | C27: N | D27: Gmina Tomaszów Lubelski | E27: 0618112 | F27: tomaszowski | G27: Budowa dróg gminnych: nr 127508L ul. Osiedlowa, Przylesie, Wrzosowa; nr 127509L ul. Modrzewiowa, Świerkowa; nr 127510L ul. Jodłowa, Sosnowa w miejscowości Rabinówka | H27: B | I27: 1.113 | J27: 03.2026 - 12.2026 | K27: 5319905.9 | L27: =ROUNDDOWN(K27*N27,2) -> 3191943.5 | M27: =K27-L27 -> 2127962.4 | N27: 0.6 | V27: 3191943.5 | W27: 0 | AA27: =L27=SUM(O27:Z27) -> TRUE | AB27: =ROUND(L27/K27,4) -> 0.6 | AC27: =AB27=N27 -> TRUE | AD27: =K27=L27+M27 -> TRUE
... A95: 93 | B95: RFRD/G/59/2026 | C95: N | D95: Gmina Miasto Biłgoraj | E95: 0602011 | F95: biłgorajski | G95: Przebudowa drogi gminnej nr 109285L - Zwierzyniecka od km 0+003,50 do km 0+314,67 w Biłgoraju | H95: P | I95: 0.312 | J95: 04.2026 - 11.2026 | K95: 1703240.1 | L95: =ROUNDDOWN(K95*N95,2) -> 1021944.1 | M95: =K95-L95 -> 681296.06 | N95: 0.6 | V95: 1021944.1 | W95: 0 | AA95: =L95=SUM(O95:Z95) -> TRUE | AB95: =ROUND(L95/K95,4) -> 0.6 | AC95: =AB95=N95 -> TRUE | AD95: =K95=L95+M95 -> TRUE
A96: 94 | B96: RFRD/G/1/2026 | C96: N | D96: Gmina Sitno | E96: 0620092 | F96: zamojski | G96: Przebudowa drogi gminnej nr 116276L od km 0+000,00 do km 0+310,00 w miejscowości Boży Dar | H96: P | I96: 0.31 | J96: 05.2026 - 11.2026 | K96: 439703.19 | L96: =ROUNDDOWN(K96*N96,2) -> 263821.91 | M96: =K96-L96 -> 175881.28 | N96: 0.6 | V96: 263821.91
A97: 95 | B97: RFRD/G/123/2026 | C97: N | D97: Miasto Puławy | E97: 0614011 | F97: puławski | G97: Przebudowa drogi gminnej nr 107557L ul. Kaniowczyków od km 0+000,00 do km 0+273,27 w Puławach | H97: P | I97: 0.273 | J97: 06.2026 - 12.2026 | K97: 2429015 | L97: =ROUNDDOWN(K97*N97,2) -> 1457409 | M97: =K97-L97 -> 971606 | N97: 0.6 | V97: 1457409 | W97: 0 | AA97: =L97=SUM(O97:Z97) -> TRUE | AB97: =ROUND(L97/K97,4) -> 0.6 | AC97: =AB97=N97 -> TRUE | AD97: =K97=L97+M97 -> TRUE
A98: 96 | B98: RFRD/G/196/2026 | C98: N | D98: Gmina Piaski | E98: 0617033 | F98: świdnicki | G98: Remont drogi gminnej nr 105836L - ul. Lipowa w Piaskach | H98: R | I98: 0.243 | J98: 03.2026 - 12.2026 | K98: 517041.69 | L98: =ROUNDDOWN(K98*N98,2) -> 310225.01 | M98: =K98-L98 -> 206816.68 | N98: 0.6 | V98: 310225.01 | W98: 0 | AA98: =L98=SUM(O98:Z98) -> TRUE | AB98: =ROUND(L98/K98,4) -> 0.6 | AC98: =AB98=N98 -> TRUE | AD98: =K98=L98+M98 -> TRUE
A99: 97 | B99: RFRD/G/40/2026 | C99: N | D99: Gmina Stężyca | E99: 0616052 | F99: rycki | G99: Remont drogi gminnej nr 102961L w miejscowości Piotrowice od km 0+000 do km 0+207,00 | H99: R | I99: 0.207 | J99: 03.2026 - 05.2026 | K99: 608571.48 | L99: =ROUNDDOWN(K99*N99,2) -> 304285.74 | M99: =K99-L99 -> 304285.74 | N99: 0.5 | V99: 304285.74 | W99: 0 | AA99: =L99=SUM(O99:Z99) -> TRUE | AB99: =ROUND(L99/K99,4) -> 0.5 | AC99: =AB99=N99 -> TRUE | AD99: =K99=L99+M99 -> TRUE
A100: 98 | B100: RFRD/G/85/2026 | C100: N | D100: Miasto Łuków | E100: 0611011 | F100: łukowski | G100: Przebudowa dróg gminnych: ul. Czerwonego Krzyża (102373L), ul. Staropijarska (102492L), ul. Kościelna (102413L) w m. Łuków | H100: P | I100: 0.174 | J100: 02.2026 - 12.2026 | K100: 3171880.9 | L100: =ROUNDDOWN(K100*N100,2) -> 1585940.4 | M100: =K100-L100 -> 1585940.5 | N100: 0.5 | V100: 1585940.4 | W100: 0 | AA100: =L100=SUM(O100:Z100) -> TRUE | AB100: =ROUND(L100/K100,4) -> 0.5 | AC100: =AB100=N100 -> TRUE | AD100: =K100=L100+M100 -> TRUE
A101: 99 | B101: RFRD/G/137/2026 | C101: N | D101: Gmina Kąkolewnica | E101: 0615042 | F101: radzyński | G101: Przebudowa drogi ul. Parkowa w Kąkolewnicy | H101: P | I101: 0.162 | J101: 06.2026 - 11.2026 | K101: 687579.4 | L101: =ROUNDDOWN(K101*N101,2) -> 412547.64 | M101: =K101-L101 -> 275031.76 | N101: 0.6 | V101: 412547.64 | W101: 0 | AA101: =L101=SUM(O101:Z101) -> TRUE | AB101: =ROUND(L101/K101,4) -> 0.6 | AC101: =AB101=N101 -> TRUE | AD101: =K101=L101+M101 -> TRUE
A102: 100 | B102: RFRD/G/89/2026 | C102: N | D102: Gmina Łęczna | E102: 0610033 | F102: łęczyński | G102: Budowa ulicy Jakuba Staszewskiego w Łęcznej | H102: B | I102: 0.135 | J102: 06.2026 - 09.2026 | K102: 324794.2 | L102: =ROUNDDOWN(K102*N102,2) -> 227355.94 | M102: =K102-L102 -> 97438.26 | N102: 0.7 | V102: 227355.94 | W102: 0 | AA102: =L102=SUM(O102:Z102) -> TRUE | AB102: =ROUND(L102/K102,4) -> 0.7 | AC102: =AB102=N102 -> TRUE | AD102: =K102=L102+M102 -> TRUE
A103: 101 | B103: RFRD/G/193/2026 | C103: N | D103: Gmina Stanin | E103: 0611072 | F103: łukowski | G103: Przebudowa drogi gminnej nr 114364L od km 0+000,00 do km 0+480,00 oraz nr 114363L od km 0+000,00 do km 0+474,00 oraz od km 0+474,00 do km 1+300,00 w miejscowości Stanin | H103: P | I103: 1.78 | J103: 05.2026 - 11.2026 | K103: 2305442.9 | L103: =ROUNDDOWN(K103*N103,2) -> 1383265.7 | M103: =K103-L103 -> 922177.16 | N103: 0.6 | V103: 1383265.7 | W103: 0 | AA103: =L103=SUM(O103:Z103) -> TRUE | AB103: =ROUND(L103/K103,4) -> 0.6 | AC103: =AB103=N103 -> TRUE | AD103: =K103=L103+M103 -> TRUE
A104: 102 | B104: RFRD/G/48/2026 | C104: N | D104: Gmina Borki | E104: 0615022 | F104: radzyński | G104: Remont drogi gminnej 102241L ul. Lipowa w Borkach od km 0+000 do km 1,700 | H104: R | I104: 1.7 | J104: 07.2026 - 12.2026 | K104: 1116490.7 | L104: =ROUNDDOWN(K104*N104,2) -> 669894.44 | M104: =K104-L104 -> 446596.3 | N104: 0.6 | V104: 669894.44 | W104: 0 | AA104: =L104=SUM(O104:Z104) -> TRUE | AB104: =ROUND(L104/K104,4) -> 0.6 | AC104: =AB104=N104 -> TRUE | AD104: =K104=L104+M104 -> TRUE
A105: 103 | B105: RFRD/G/7/2026 | C105: N | D105: Gmina Rejowiec | E105: 0603153 | F105: chełmski | G105: Budowa drogi w miejscowości Adamów Kolonia i Rejowiec Kolonia | H105: B | I105: 1.408 | J105: 01.2026 - 08.2026 | K105: 2712906.5 | L105: =ROUNDDOWN(K105*N105,2) -> 1356453.3 | M105: =K105-L105 -> 1356453.3 | N105: 0.5 | V105: 1356453.3 | W105: 0 | AA105: =L105=SUM(O105:Z105) -> TRUE | AB105: =ROUND(L105/K105,4) -> 0.5 | AC105: =AB105=N105 -> TRUE | AD105: =K105=L105+M105 -> TRUE
A106: 104 | B106: RFRD/G/21/2026 | C106: N | D106: Gmina Gorzków | E106: 0606032 | F106: krasnostawski | G106: Rozbudowa drogi gminnej Nr 109728L od km 0+020 do km 0+400 w m. Borów | H106: B | I106: 0.38 | J106: 04.2026 - 12.2026 | K106: 1088653.4 | L106: =ROUNDDOWN(K106*N106,2) -> 544326.72 | M106: =K106-L106 -> 544326.73 | N106: 0.5 | V106: 544326.72 | W106: 0 | AA106: =L106=SUM(O106:Z106) -> TRUE | AB106: =ROUND(L106/K106,4) -> 0.5 | AC106: =AB106=N106 -> TRUE | AD106: =K106=L106+M106 -> TRUE
A107: 105 | B107: RFRD/G/213/2026 | C107: N | D107: Gmina Frampol | E107: 0602053 | F107: biłgorajski | G107: Przebudowa drogi gminnej nr 113363L ul. Graniczna w m. Frampol - Etap II od km 0+935,50 do km 1+232,65 | H107: P | I107: 0.297 | J107: 05.2026 - 12.2026 | K107: 463918.39 | L107: =ROUNDDOWN(K107*N107,2) -> 231959.19 | M107: =K107-L107 -> 231959.2 | N107: 0.5 | V107: 231959.19 | W107: 0 | AA107: =L107=SUM(O107:Z107) -> TRUE | AB107: =ROUND(L107/K107,4) -> 0.5 | AC107: =AB107=N107 -> TRUE | AD107: =K107=L107+M107 -> TRUE
...

Sheet pow rez
A1: L.p. | B1: Nr ewid. | C1: Zadanie nowe/wieloletnie [N/W] | D1: Jednostka Samorządu Terytorialnego | E1: TERC | F1: Nazwa zadania | G1: Rodzaj zadania | H1: Długość odcinka (w km) | I1: Okres realizacji zadania | J1: Ogółem wartość projektu (w zł) | K1: Wnioskowana kwota dofinansowania (w zł) | L1: Deklarowana kwota środków własnych (w zł) | M1: % dofinansowania | N1: Kwota dofinansowania w podziale na lata
N2: 2019 | O2: 2020 | P2: 2021 | Q2: 2022 | R2: 2023 | S2: 2024 | T2: 2025 | U2: 2026 | V2: 2027 | W2: 2028 | X2: 2029 | Y2: 2030 | Z2: spr-lata | AA2: spr-procent | AB2: spr-dof | AC2: spr-montaż
A3: 1 | B3: RFRD/P/37/2026 | C3: N | D3: Powiat Lubartowski | E3: 0608 | F3: Rozbudowa drogi powiatowej nr 1566L (Ostrów Lubelski - Stara Jedlanka) - Etap III | G3: B | H3: 1.695 | I3: 03.2026 - 12.2026 | J3: 6591315.9 | K3: =ROUNDDOWN(J3*M3,2) -> 3954789.5 | L3: 2636526.4 | M3: 0.6 | U3: 3954789.5 | V3: 0 | Z3: =K3=SUM(N3:Y3) -> TRUE | AA3: =ROUND(K3/J3,4) -> 0.6 | AB3: =AA3=M3 -> TRUE | AC3: =J3=K3+L3 -> TRUE
A4: 2 | B4: RFRD/P/16/2026 | C4: N | D4: Powiat Puławski | E4: 0614 | F4: Przebudowa drogi powiatowej nr 23537L na odcinku od km 0+410,00 do km 1+635,00 | G4: P | H4: 1.225 | I4: 05.2026 - 04.2027 | J4: 4607577 | K4: =ROUNDDOWN(J4*M4,2) -> 2303788.5 | L4: 2303788.5 | M4: 0.5 | U4: 2303788.5 | V4: 0 | Z4: =K4=SUM(N4:Y4) -> TRUE | AA4: =ROUND(K4/J4,4) -> 0.5 | AB4: =AA4=M4 -> TRUE | AC4: =J4=K4+L4 -> TRUE
A5: 3 | B5: RFRD/P/27/2026 | C5: N | D5: Powiat Chełmski | E5: 0603 | F5: Budowa drogi powiatowej nr 1829L od km 1+310 do km 5+134,43 na odcinku Brzeźno - Żalin - Kolonia | G5: B | H5: 3.824 | I5: 03.2026 - 12.2026 | J5: 19428972 | K5: =ROUNDDOWN(J5*M5,2) -> 11657383 | L5: 7771588.9 | M5: 0.6 | U5: 11657383 | V5: 0 | Z5: =K5=SUM(N5:Y5) -> TRUE | AA5: =ROUND(K5/J5,4) -> 0.6 | AB5: =AA5=M5 -> TRUE | AC5: =J5=K5+L5 -> TRUE
A6: 4 | B6: RFRD/P/2/2026 | C6: W | D6: Powiat Rycki | E6: 0616 | F6: Rozbudowa drogi powiatowej Nr 1405L - ul. Swatowska w Rykach od km 0+000 do km 3+000 | G6: B | H6: 3 | I6: 02.2026 - 09.2027 | J6: 13319571 | K6: =ROUNDDOWN(J6*M6,2) -> 6659785.5 | L6: 6659785.5 | M6: 0.5 | U6: 3331142.7 | V6: 3328642.7 | Z6: =K6=SUM(N6:Y6) -> TRUE | AA6: =ROUND(K6/J6,4) -> 0.5 | AB6: =AA6=M6 -> TRUE | AC6: =J6=K6+L6 -> TRUE
A7: 5 | B7: RFRD/P/7/2026 | C7: N | D7: Powiat Zamojski | E7: 0620 | F7: Przebudowa drogi powiatowej Nr 3201L Radecznica - Sułowiec - dr. powiatowa Nr 3011 L od km 4+170 do km 6+724,6 | G7: P | H7: 2.555 | I7: 03.2026 - 02.2027 | J7: 4867706.7 | K7: =ROUNDDOWN(J7*M7,2) -> 3407394.7 | L7: 1460312 | M7: 0.7 | U7: 3407394.7 | V7: 0 | Z7: =K7=SUM(N7:Y7) -> TRUE | AA7: =ROUND(K7/J7,4) -> 0.7 | AB7: =AA7=M7 -> TRUE | AC7: =J7=K7+L7 -> TRUE
A8: 6 | B8: RFRD/P/31/2026 | C8: N | D8: Powiat Świdnicki | E8: 0617 | F8: Przebudowa drogi powiatowej nr 2130L w m. Bazar, gm. Rybczewice | G8: P | H8: 2.166 | I8: 06.2026 - 05.2027 | J8: 2704249.1 | K8: =ROUNDDOWN(J8*M8,2) -> 1892974.4 | L8: 811274.73 | M8: 0.7 | U8: 1892974.4 | V8: 0 | Z8: =K8=SUM(N8:Y8) -> TRUE | AA8: =ROUND(K8/J8,4) -> 0.7 | AB8: =AA8=M8 -> TRUE | AC8: =J8=K8+L8 -> TRUE
A9: 7 | B9: RFRD/P/19/2026 | C9: N | D9: Powiat Janowski | E9: 0605 | F9: Przebudowa drogi powiatowej nr 2815L Modliborzyce - Gwizdów - gr. woj. (Rzeczyca Długa) w lokalizacji od km 7+505 do km 13+500 | G9: P | H9: 5.995 | I9: 04.2026 - 12.2026 | J9: 11696774 | K9: =ROUNDDOWN(J9*M9,2) -> 7018064.6 | L9: 4678709.7 | M9: 0.6 | U9: 7018064.6 | V9: 0 | Z9: =K9=SUM(N9:Y9) -> TRUE | AA9: =ROUND(K9/J9,4) -> 0.6 | AB9: =AA9=M9 -> TRUE | AC9: =J9=K9+L9 -> TRUE
A10: 8 | B10: RFRD/P/6/2026 | C10: N | D10: Powiat Opolski | E10: 0612 | F10: Przebudowa trzech odcinków drogi powiatowej nr 2604L Wilków - Majdany - Zakrzów - Janiszów o łącznej dł 4,614 km | G10: P | H10: 4.614 | I10: 03.2026 - 11.2026 | J10: 5842618 | K10: =ROUNDDOWN(J10*M10,2) -> 3505570.8 | L10: 2337047.2 | M10: 0.6 | U10: =K10 -> 3505570.8 | Z10: =K10=SUM(N10:Y10) -> TRUE | AA10: =ROUND(K10/J10,4) -> 0.6 | AB10: =AA10=M10 -> TRUE | AC10: =J10=K10+L10 -> TRUE
A11: 9 | B11: RFRD/P/39/2026 | C11: N | D11: Powiat Łukowski | E11: 0611 | F11: Rozbudowa drogi powiatowej nr 1314L od km 15+370 do km 16+760 na odcinku Nurzyna - Dębowica wraz z przebudową mostu JNI01028441 oraz przebudowa drogi nr 1314L od km 12+500 do km 15+370 na odcinku Celiny - Nurzyna | G11: P | H11: 4.26 | I11: 06.2026 - 05.2027 | J11: 18882909 | K11: =ROUNDDOWN(J11*M11,2) -> 9441454.7 | L11: 9441454.7 | M11: 0.5 | U11: 9441454.7 | V11: 0 | Z11: =K11=SUM(N11:Y11) -> TRUE | AA11: =ROUND(K11/J11,4) -> 0.5 | AB11: =AA11=M11 -> TRUE | AC11: =J11=K11+L11 -> TRUE
A12: 10 | B12: RFRD/P/36/2026 | C12: N | D12: Powiat Tomaszowski | E12: 0618 | F12: Przebudowa drogi powiatowej nr 3561L ul. Rolnicza w Tomaszowie Lubelskim | G12: P | H12: 0.991 | I12: 04.2026 - 12.2026 | J12: 12100940 | K12: =ROUNDDOWN(J12*M12,2) -> 6050470.1 | L12: 6050470.1 | M12: 0.5 | U12: 6050470.1 | V12: 0 | Z12: =K12=SUM(N12:Y12) -> TRUE | AA12: =ROUND(K12/J12,4) -> 0.5 | AB12: =AA12=M12 -> TRUE | AC12: =J12=K12+L12 -> TRUE
A13: 11 | B13: RFRD/P/28/2026 | C13: N | D13: Powiat Chełmski | E13: 0603 | F13: Przebudowa drogi powiatowej nr 1843L od km 12+199 do km 17+027,39 na odcinku Kroczyn - Michałówka | G13: P | H13: 4.828 | I13: 03.2026 - 12.2026 | J13: 16168008 | K13: =ROUNDDOWN(J13*M13,2) -> 9700805 | L13: 6467203.3 | M13: 0.6 | U13: 9700805 | V13: 0 | Z13: =K13=SUM(N13:Y13) -> TRUE | AA13: =ROUND(K13/J13,4) -> 0.6 | AB13: =AA13=M13 -> TRUE | AC13: =J13=K13+L13 -> TRUE
A14: 12 | B14: RFRD/P/26/2026 | C14: W | D14: Powiat Kraśnicki | E14: 0607 | F14: Przebudowa drogi powiatowej nr 2735L w gminie Zakrzówek | G14: P | H14: 2.923 | I14: 06.2026 - 09.2027 | J14: 10771016 | K14: =ROUNDDOWN(J14*M14,2) -> 6462609.7 | L14: 4308406.4 | M14: 0.6 | U14: 2222890.4 | V14: 4239719.3 | Z14: =K14=SUM(N14:Y14) -> TRUE | AA14: =ROUND(K14/J14,4) -> 0.6 | AB14: =AA14=M14 -> TRUE | AC14: =J14=K14+L14 -> TRUE
A15: 13 | B15: RFRD/P/10/2026 | C15: W | D15: Powiat Biłgorajski | E15: 0602 | F15: Przebudowa drogi powiatowej nr 2905L Zastawie - Hosznia Ordynacka od km 0+084,00 do km 3+913,00 Etap I | G15: P | H15: 3.829 | I15: 04.2026 - 11.2027 | J15: 11472538 | K15: =ROUNDDOWN(J15*M15,2) -> 6883522.6 | L15: 4589015.1 | M15: 0.6 | U15: 3441761.3 | V15: 3441761.3 | Z15: =K15=SUM(N15:Y15) -> TRUE | AA15: =ROUND(K15/J15,4) -> 0.6 | AB15: =AA15=M15 -> TRUE | AC15: =J15=K15+L15 -> TRUE
